BEGIN:VCALENDAR
VERSION:2.0
PRODID:-// - ECPv6.3.7//NONSGML v1.0//EN
CALSCALE:GREGORIAN
METHOD:PUBLISH
X-ORIGINAL-URL:https://tranminhcuong.com
X-WR-CALDESC:Events for 
REFRESH-INTERVAL;VALUE=DURATION:PT1H
X-Robots-Tag:noindex
X-PUBLISHED-TTL:PT1H
BEGIN:VTIMEZONE
TZID:America/Chicago
BEGIN:DAYLIGHT
TZOFFSETFROM:-0600
TZOFFSETTO:-0500
TZNAME:CDT
DTSTART:20230312T080000
END:DAYLIGHT
BEGIN:STANDARD
TZOFFSETFROM:-0500
TZOFFSETTO:-0600
TZNAME:CST
DTSTART:20231105T070000
END:STANDARD
TZID:America/Vancouver
BEGIN:DAYLIGHT
TZOFFSETFROM:-0800
TZOFFSETTO:-0700
TZNAME:PDT
DTSTART:20230312T100000
END:DAYLIGHT
BEGIN:STANDARD
TZOFFSETFROM:-0700
TZOFFSETTO:-0800
TZNAME:PST
DTSTART:20231105T090000
END:STANDARD
TZID:Asia/Taipei
BEGIN:STANDARD
TZOFFSETFROM:+0800
TZOFFSETTO:+0800
TZNAME:CST
DTSTART:20230101T000000
END:STANDARD
TZID:Europe/Rome
BEGIN:DAYLIGHT
TZOFFSETFROM:+0100
TZOFFSETTO:+0200
TZNAME:CEST
DTSTART:20230326T010000
END:DAYLIGHT
BEGIN:STANDARD
TZOFFSETFROM:+0200
TZOFFSETTO:+0100
TZNAME:CET
DTSTART:20231029T010000
END:STANDARD
END:VTIMEZONE
BEGIN:VEVENT
DTSTART;VALUE=DATE:20230603
DTEND;VALUE=DATE:20230605
DTSTAMP:20260422T122145
CREATED:20230113T151743Z
LAST-MODIFIED:20230203T024740Z
UID:1410-1685750400-1685923199@tranminhcuong.com
SUMMARY:AO CMF NA Course—Management of Facial Trauma
DESCRIPTION:This course provides learners with the fundamental knowledge and principles for the treatment of craniomaxillofacial fractures and their complications. It covers diagnostic and treatment principles for midface and mandibular fractures\, as well as the prevention and treatment of complications.\n\n\n\nLike this:Like Loading...
URL:https://tranminhcuong.com/event/ao-cmf-na-course-management-of-facial-trauma-3/
LOCATION:Hyatt Regency O’Hare\, 9300 Bryn Mawr Avenue Rosemont\, IL\, USA\, United States
CATEGORIES:Course
ATTACH;FMTTYPE=image/png:https://tranminhcuong.com/wp-content/uploads/2023/01/AO_CMF_MFT-website900x506px.png
ORGANIZER;CN="AO North America":MAILTO:memberrelations@aona.org
END:VEVENT
BEGIN:VEVENT
DTSTART;VALUE=DATE:20230608
DTEND;VALUE=DATE:20230612
DTSTAMP:20260422T122145
CREATED:20230110T161318Z
LAST-MODIFIED:20230203T025658Z
UID:1397-1686182400-1686527999@tranminhcuong.com
SUMMARY:25th International Conference on Oral and Maxillofacial Surgery
DESCRIPTION:Learn\, connect & grow with colleagues from across the globe at this unique international opportunity! \nLike this:Like Loading...
URL:https://tranminhcuong.com/event/25th-international-conference-on-oral-and-maxillofacial-surgery/
LOCATION:Vancouver Convention Center\, 999 Canada Pl #300\, Vancouver\, BC V6C 3B5\, Canada\, Vancouver\, Canada
CATEGORIES:Conference
ATTACH;FMTTYPE=image/png:https://tranminhcuong.com/wp-content/uploads/2023/01/Screenshot-2023-01-10-at-23.13.05.png
END:VEVENT
BEGIN:VEVENT
DTSTART;VALUE=DATE:20230610
DTEND;VALUE=DATE:20230612
DTSTAMP:20260422T122145
CREATED:20230119T123313Z
LAST-MODIFIED:20230203T025613Z
UID:1492-1686355200-1686527999@tranminhcuong.com
SUMMARY:AO CMF Course - Advances in Aesthetic Reconstruction in Midface and Orbital Surgery
DESCRIPTION:Like this:Like Loading...
URL:https://tranminhcuong.com/event/ao-cmf-course-advances-in-aesthetic-reconstruction-in-midface-and-orbital-surgery/
LOCATION:Taipei\, Taiwan
CATEGORIES:Course
ATTACH;FMTTYPE=image/png:https://tranminhcuong.com/wp-content/uploads/2023/01/AO_CMF_MFT-website900x506px.png
END:VEVENT
BEGIN:VEVENT
DTSTART;VALUE=DATE:20230621
DTEND;VALUE=DATE:20230626
DTSTAMP:20260422T122145
CREATED:20230113T155021Z
LAST-MODIFIED:20230203T025554Z
UID:1424-1687305600-1687737599@tranminhcuong.com
SUMMARY:7th World Congress of the International Federation of Head and Neck Oncologic Societies
DESCRIPTION:The 7th World Congress of the International Federation of Head and Neck Oncologic Societies comes back in 2023 as an in-person event.\n\n\nLike this:Like Loading...
URL:https://tranminhcuong.com/event/7th-world-congress-of-the-international-federation-of-head-and-neck-oncologic-societies/
LOCATION:Ergife Palace Hotel Convention Center\, I – 00165 Rome\, via Aurelia 619\, Rome\, Italy
CATEGORIES:Conference
ATTACH;FMTTYPE=image/png:https://tranminhcuong.com/wp-content/uploads/2023/01/Screenshot-2023-01-13-at-22.50.08.png
END:VEVENT
END:VCALENDAR