BEGIN:VCALENDAR
VERSION:2.0
PRODID:-// - ECPv6.3.7//NONSGML v1.0//EN
CALSCALE:GREGORIAN
METHOD:PUBLISH
X-ORIGINAL-URL:https://tranminhcuong.com
X-WR-CALDESC:Events for 
REFRESH-INTERVAL;VALUE=DURATION:PT1H
X-Robots-Tag:noindex
X-PUBLISHED-TTL:PT1H
BEGIN:VTIMEZONE
TZID:Asia/Taipei
BEGIN:STANDARD
TZOFFSETFROM:+0800
TZOFFSETTO:+0800
TZNAME:CST
DTSTART:20230101T000000
END:STANDARD
TZID:Europe/Paris
BEGIN:DAYLIGHT
TZOFFSETFROM:+0100
TZOFFSETTO:+0200
TZNAME:CEST
DTSTART:20230326T010000
END:DAYLIGHT
BEGIN:STANDARD
TZOFFSETFROM:+0200
TZOFFSETTO:+0100
TZNAME:CET
DTSTART:20231029T010000
END:STANDARD
TZID:Asia/Hong_Kong
BEGIN:STANDARD
TZOFFSETFROM:+0800
TZOFFSETTO:+0800
TZNAME:HKT
DTSTART:20230101T000000
END:STANDARD
TZID:Asia/Ho_Chi_Minh
BEGIN:STANDARD
TZOFFSETFROM:+0700
TZOFFSETTO:+0700
TZNAME:+07
DTSTART:20230101T000000
END:STANDARD
TZID:Europe/Berlin
BEGIN:DAYLIGHT
TZOFFSETFROM:+0100
TZOFFSETTO:+0200
TZNAME:CEST
DTSTART:20230326T010000
END:DAYLIGHT
BEGIN:STANDARD
TZOFFSETFROM:+0200
TZOFFSETTO:+0100
TZNAME:CET
DTSTART:20231029T010000
END:STANDARD
TZID:Asia/Singapore
BEGIN:STANDARD
TZOFFSETFROM:+0800
TZOFFSETTO:+0800
TZNAME:+08
DTSTART:20230101T000000
END:STANDARD
TZID:America/Los_Angeles
BEGIN:DAYLIGHT
TZOFFSETFROM:-0800
TZOFFSETTO:-0700
TZNAME:PDT
DTSTART:20230312T100000
END:DAYLIGHT
BEGIN:STANDARD
TZOFFSETFROM:-0700
TZOFFSETTO:-0800
TZNAME:PST
DTSTART:20231105T090000
END:STANDARD
END:VTIMEZONE
BEGIN:VEVENT
DTSTART;VALUE=DATE:20230610
DTEND;VALUE=DATE:20230612
DTSTAMP:20260426T084523
CREATED:20230119T123313Z
LAST-MODIFIED:20230203T025613Z
UID:1492-1686355200-1686527999@tranminhcuong.com
SUMMARY:AO CMF Course - Advances in Aesthetic Reconstruction in Midface and Orbital Surgery
DESCRIPTION:Like this:Like Loading...
URL:https://tranminhcuong.com/event/ao-cmf-course-advances-in-aesthetic-reconstruction-in-midface-and-orbital-surgery/
LOCATION:Taipei\, Taiwan
CATEGORIES:Course
ATTACH;FMTTYPE=image/png:https://tranminhcuong.com/wp-content/uploads/2023/01/AO_CMF_MFT-website900x506px.png
END:VEVENT
BEGIN:VEVENT
DTSTART;VALUE=DATE:20230703
DTEND;VALUE=DATE:20230707
DTSTAMP:20260426T084523
CREATED:20230119T125213Z
LAST-MODIFIED:20230203T025455Z
UID:1501-1688342400-1688687999@tranminhcuong.com
SUMMARY:Sculean Master Course in Periodontology 2023
DESCRIPTION:An interactive 4-day CE course with Live Surgeries and Hands-on Workshops. All lectures and live surgeries are also offered virtually. \nLike this:Like Loading...
URL:https://tranminhcuong.com/event/sculean-master-course-in-periodontology-2023/
LOCATION:Bern\, Switzerland
CATEGORIES:Course
ATTACH;FMTTYPE=image/png:https://tranminhcuong.com/wp-content/uploads/2023/01/Screenshot-2023-01-19-at-19.51.28.png
END:VEVENT
BEGIN:VEVENT
DTSTART;VALUE=DATE:20230818
DTEND;VALUE=DATE:20230821
DTSTAMP:20260426T084523
CREATED:20230119T043027Z
LAST-MODIFIED:20230203T025445Z
UID:1442-1692316800-1692575999@tranminhcuong.com
SUMMARY:AO CMF Course—Advances in Oral Oncology with Anatomical Specimens
DESCRIPTION:Like this:Like Loading...
URL:https://tranminhcuong.com/event/ao-cmf-course-advances-in-oral-oncology-with-anatomical-specimens/
LOCATION:Hong Kong\, Hong Kong
CATEGORIES:Course
ATTACH;FMTTYPE=image/png:https://tranminhcuong.com/wp-content/uploads/2023/01/AO_CMF_MFT-website900x506px.png
END:VEVENT
BEGIN:VEVENT
DTSTART;VALUE=DATE:20230826
DTEND;VALUE=DATE:20230828
DTSTAMP:20260426T084523
CREATED:20230113T152544Z
LAST-MODIFIED:20230203T024752Z
UID:1413-1693008000-1693180799@tranminhcuong.com
SUMMARY:AO CMF NA Course—Management of Facial Trauma
DESCRIPTION:This course provides learners with the fundamental knowledge and principles for the treatment of craniomaxillofacial fractures and their complications. It covers diagnostic and treatment principles for midface and mandibular fractures\, as well as the prevention and treatment of complications. \nLike this:Like Loading...
URL:https://tranminhcuong.com/event/ao-cmf-na-course-management-of-facial-trauma-4/
LOCATION:Hyatt Boston Harbor\, 101 Harborside Drive Boston\, MA\, USA\, United States
CATEGORIES:Course
ATTACH;FMTTYPE=image/png:https://tranminhcuong.com/wp-content/uploads/2023/01/AO_CMF_MFT-website900x506px.png
ORGANIZER;CN="AO North America":MAILTO:memberrelations@aona.org
END:VEVENT
BEGIN:VEVENT
DTSTART;VALUE=DATE:20230921
DTEND;VALUE=DATE:20230924
DTSTAMP:20260426T084523
CREATED:20230126T134240Z
LAST-MODIFIED:20230203T025413Z
UID:1515-1695254400-1695513599@tranminhcuong.com
SUMMARY:79th International Advanced Course for Stepwise Flap Raising Berlin - Pulsatile Perforator Flap Course
DESCRIPTION:Like this:Like Loading...
URL:https://tranminhcuong.com/event/79th-international-advanced-course-for-stepwise-flap-raising-berlin-pulsatile-perforator-flap-course/
LOCATION:Berlin\, Germany
CATEGORIES:Course
ATTACH;FMTTYPE=image/png:https://tranminhcuong.com/wp-content/uploads/2023/01/Screenshot-2023-01-26-at-20.39.24.png
END:VEVENT
BEGIN:VEVENT
DTSTART;VALUE=DATE:20231003
DTEND;VALUE=DATE:20231005
DTSTAMP:20260426T084523
CREATED:20230702T050635Z
LAST-MODIFIED:20230702T050803Z
UID:1748-1696291200-1696463999@tranminhcuong.com
SUMMARY:AO CMF Course - Advances in 3D Printing and Computer Assisted Craniomaxillofacial Surgery
DESCRIPTION:This course will cover the use of computer assisted surgical guides in craniomaxillofacial surgery in the fields of trauma\, orthognathic and reconstructive surgery. Participants will learn with short lectures\, small group teaching and hands-on computer planning and the use of surgical guides. \nLike this:Like Loading...
URL:https://tranminhcuong.com/event/ao-cmf-course-advances-in-3d-printing-and-computer-assisted-craniomaxillofacial-surgery-2/
LOCATION:Academia\, 20 College Rd\, 169856\, Singapore
CATEGORIES:Course
ATTACH;FMTTYPE=image/png:https://tranminhcuong.com/wp-content/uploads/2023/07/Screenshot-2023-07-02-at-12.05.43.png
ORGANIZER;CN="AO Education Events AP":MAILTO:kerry.hui@aofoundation.org
END:VEVENT
BEGIN:VEVENT
DTSTART;VALUE=DATE:20231005
DTEND;VALUE=DATE:20231007
DTSTAMP:20260426T084523
CREATED:20230702T050950Z
LAST-MODIFIED:20230702T050950Z
UID:1753-1696464000-1696636799@tranminhcuong.com
SUMMARY:AO CMF Course—Advances in Aesthetic Orthognathic Surgery with Anatomical Specimens
DESCRIPTION:This course will cover the different surgical techniques used to achieve a better aesthetic result in orthognathic surgery. Practical hands-on experience will be taught with fresh anatomical specimens and covers the common and also uncommon surgical techniques. \nLike this:Like Loading...
URL:https://tranminhcuong.com/event/ao-cmf-course-advances-in-aesthetic-orthognathic-surgery-with-anatomical-specimens-2/
LOCATION:Academia\, 20 College Rd\, 169856\, Singapore
CATEGORIES:Course
ATTACH;FMTTYPE=image/png:https://tranminhcuong.com/wp-content/uploads/2023/07/Screenshot-2023-07-02-at-12.05.43.png
ORGANIZER;CN="AO Global Networks AP":MAILTO:lorain.lui@aofoundation.org
END:VEVENT
BEGIN:VEVENT
DTSTART;VALUE=DATE:20231104
DTEND;VALUE=DATE:20231106
DTSTAMP:20260426T084523
CREATED:20230113T152720Z
LAST-MODIFIED:20230203T030903Z
UID:1416-1699056000-1699228799@tranminhcuong.com
SUMMARY:AO CMF NA Course—Management of Facial Trauma
DESCRIPTION:This course provides learners with the fundamental knowledge and principles for the treatment of craniomaxillofacial fractures and their complications. It covers diagnostic and treatment principles for midface and mandibular fractures\, as well as the prevention and treatment of complications. \nLike this:Like Loading...
URL:https://tranminhcuong.com/event/ao-cmf-na-course-management-of-facial-trauma-5/
LOCATION:Kansas City Marriott Downtown\, 200 W 12th Street Kansas City\, Missouri\, USA\, United States
CATEGORIES:Course
ATTACH;FMTTYPE=image/png:https://tranminhcuong.com/wp-content/uploads/2023/01/AO_CMF_MFT-website900x506px.png
ORGANIZER;CN="AO North America":MAILTO:memberrelations@aona.org
END:VEVENT
BEGIN:VEVENT
DTSTART;VALUE=DATE:20231109
DTEND;VALUE=DATE:20231112
DTSTAMP:20260426T084523
CREATED:20230110T155100Z
LAST-MODIFIED:20230110T155100Z
UID:1377-1699488000-1699747199@tranminhcuong.com
SUMMARY:Khóa ĐTLT cấy ghép Implant nha khoa nâng cao khóa 8 năm 2023 - Viện Răng Hàm Mặt Y Hà Nội
DESCRIPTION:Like this:Like Loading...
URL:https://tranminhcuong.com/event/khoa-dtlt-cay-ghep-implant-nha-khoa-nang-cao-khoa-8-nam-2023-vien-rang-ham-mat-y-ha-noi/
LOCATION:Viện Đào Tạo Răng Hàm Mặt Y Hà Nội\, Nhà A7 - Số 1 Tôn Thất Tùng - Đống Đa\, TP. Hà Nội\, Viet Nam
CATEGORIES:Course
ATTACH;FMTTYPE=image/png:https://tranminhcuong.com/wp-content/uploads/2023/01/Screenshot-2023-01-10-at-22.49.07.png
ORGANIZER;CN="Vi%E1%BB%87n %C4%90%C3%A0o T%E1%BA%A1o R%C4%83ng H%C3%A0m M%E1%BA%B7t Y H%C3%A0 N%E1%BB%99i":MAILTO:totruyenthongrhm@gmail.com
END:VEVENT
BEGIN:VEVENT
DTSTART;VALUE=DATE:20231214
DTEND;VALUE=DATE:20231217
DTSTAMP:20260426T084523
CREATED:20230126T134750Z
LAST-MODIFIED:20230203T025116Z
UID:1519-1702512000-1702771199@tranminhcuong.com
SUMMARY:81st International Course for Stepwise Flap Raising\, Munich
DESCRIPTION:Like this:Like Loading...
URL:https://tranminhcuong.com/event/81st-international-course-for-stepwise-flap-raising-munich/
LOCATION:Institute of Anatomy of the Ludwig Maximilians University Munich\, Pettenkoferstraße 11 80336\, Munich\, Germany
CATEGORIES:Course
ATTACH;FMTTYPE=image/png:https://tranminhcuong.com/wp-content/uploads/2023/01/Screenshot-2023-01-26-at-20.47.14.png
ORGANIZER;CN="Institute of Anatomy of the Ludwig Maximilians University Munich":MAILTO:mkg-chirurgie@ukaachen.de
END:VEVENT
END:VCALENDAR