BEGIN:VCALENDAR
VERSION:2.0
PRODID:-// - ECPv6.3.7//NONSGML v1.0//EN
CALSCALE:GREGORIAN
METHOD:PUBLISH
X-ORIGINAL-URL:https://tranminhcuong.com
X-WR-CALDESC:Events for 
REFRESH-INTERVAL;VALUE=DURATION:PT1H
X-Robots-Tag:noindex
X-PUBLISHED-TTL:PT1H
BEGIN:VTIMEZONE
TZID:America/Los_Angeles
BEGIN:DAYLIGHT
TZOFFSETFROM:-0800
TZOFFSETTO:-0700
TZNAME:PDT
DTSTART:20230312T100000
END:DAYLIGHT
BEGIN:STANDARD
TZOFFSETFROM:-0700
TZOFFSETTO:-0800
TZNAME:PST
DTSTART:20231105T090000
END:STANDARD
END:VTIMEZONE
BEGIN:VEVENT
DTSTART;VALUE=DATE:20230318
DTEND;VALUE=DATE:20230320
DTSTAMP:20260426T004434
CREATED:20230203T023744Z
LAST-MODIFIED:20230203T023825Z
UID:1541-1679097600-1679270399@tranminhcuong.com
SUMMARY:AO CMF NA Advanced Symposium-Masters Course in Facial Reconstruction
DESCRIPTION:This course will cover up to date early and late facial injury evaluation and repair\, to include treatment planning and comparisons of planning and software available\, implant materials and techniques\, new methods of planning evaluation and comparative analysis.  The goal of this course is to teach the combination of what is good from the old and combine it with opportunities of the new.  We will discuss how to minimize the ‘learning curve’ with the introduction of new systems of treatment analysis and treatment planning. \nLike this:Like Loading...
URL:https://tranminhcuong.com/event/ao-cmf-na-advanced-symposium-masters-course-in-facial-reconstruction/
LOCATION:The Resort at Squaw Creek\, Olympic Valley (Lake Tahoe)\, CA\, USA\, California\, United States
CATEGORIES:Course
ATTACH;FMTTYPE=image/jpeg:https://tranminhcuong.com/wp-content/uploads/2023/02/lake-tahoe-symposium_MICME.jpg
END:VEVENT
END:VCALENDAR