BEGIN:VCALENDAR
VERSION:2.0
PRODID:-// - ECPv6.3.7//NONSGML v1.0//EN
CALSCALE:GREGORIAN
METHOD:PUBLISH
X-ORIGINAL-URL:https://tranminhcuong.com
X-WR-CALDESC:Events for 
REFRESH-INTERVAL;VALUE=DURATION:PT1H
X-Robots-Tag:noindex
X-PUBLISHED-TTL:PT1H
BEGIN:VTIMEZONE
TZID:Asia/Ho_Chi_Minh
BEGIN:STANDARD
TZOFFSETFROM:+0700
TZOFFSETTO:+0700
TZNAME:+07
DTSTART:20230101T000000
END:STANDARD
END:VTIMEZONE
BEGIN:VEVENT
DTSTART;VALUE=DATE:20230402
DTEND;VALUE=DATE:20230405
DTSTAMP:20260422T170339
CREATED:20221226T084409Z
LAST-MODIFIED:20230203T025837Z
UID:1347-1680393600-1680652799@tranminhcuong.com
SUMMARY:Hội nghị khoa học kỹ thuật & Đào tạo liên tục Răng Hàm Mặt lần thứ 45
DESCRIPTION:Like this:Like Loading...
URL:https://tranminhcuong.com/event/dental-events/
LOCATION:The Adora Center\, 431 Hoàng Văn Thụ\, Phường 4\, Quận Tân Bình\, TpHCM\, 700000\, Viet Nam
CATEGORIES:Conference
ATTACH;FMTTYPE=image/jpeg:https://tranminhcuong.com/wp-content/uploads/2022/12/z4071913308509_f51e88a74cc7907149cbbb690e004ed7-scaled.jpg
ORGANIZER;CN="Khoa R%C4%83ng H%C3%A0m M%E1%BA%B7t - %C4%90%E1%BA%A1i H%E1%BB%8Dc Y D%C6%B0%E1%BB%A3c TpHCM":MAILTO:khoarhm@ump.edu.vn
END:VEVENT
END:VCALENDAR