BEGIN:VCALENDAR
VERSION:2.0
PRODID:-// - ECPv6.3.7//NONSGML v1.0//EN
CALSCALE:GREGORIAN
METHOD:PUBLISH
X-ORIGINAL-URL:https://tranminhcuong.com
X-WR-CALDESC:Events for 
REFRESH-INTERVAL;VALUE=DURATION:PT1H
X-Robots-Tag:noindex
X-PUBLISHED-TTL:PT1H
BEGIN:VTIMEZONE
TZID:Asia/Ho_Chi_Minh
BEGIN:STANDARD
TZOFFSETFROM:+0700
TZOFFSETTO:+0700
TZNAME:+07
DTSTART:20230101T000000
END:STANDARD
END:VTIMEZONE
BEGIN:VEVENT
DTSTART;VALUE=DATE:20230315
DTEND;VALUE=DATE:20230325
DTSTAMP:20260422T184158
CREATED:20230110T160458Z
LAST-MODIFIED:20230215T032901Z
UID:1389-1678838400-1679702399@tranminhcuong.com
SUMMARY:78th International Course for Flap Raising & Microsurgery
DESCRIPTION:Course Chairmen – Prof F Hoelzle\, Mr D A Mitchell\, Prof K D Wolff \nLike this:Like Loading...
URL:https://tranminhcuong.com/event/78th-international-course-for-flap-raising-microsurgery/
LOCATION:Institute of Anatomy\, Uniklinik RWTH Aachen\, Wendlingweg 2 Aachen\, 52074 Germany\, Germany
ATTACH;FMTTYPE=image/png:https://tranminhcuong.com/wp-content/uploads/2023/01/Screenshot-2023-01-10-at-23.04.08.png
END:VEVENT
END:VCALENDAR