BEGIN:VCALENDAR
VERSION:2.0
PRODID:-// - ECPv6.3.7//NONSGML v1.0//EN
CALSCALE:GREGORIAN
METHOD:PUBLISH
X-ORIGINAL-URL:https://tranminhcuong.com
X-WR-CALDESC:Events for 
REFRESH-INTERVAL;VALUE=DURATION:PT1H
X-Robots-Tag:noindex
X-PUBLISHED-TTL:PT1H
BEGIN:VTIMEZONE
TZID:UTC
BEGIN:STANDARD
TZOFFSETFROM:+0000
TZOFFSETTO:+0000
TZNAME:UTC
DTSTART:20230101T000000
END:STANDARD
END:VTIMEZONE
BEGIN:VEVENT
DTSTART;VALUE=DATE:20230313
DTEND;VALUE=DATE:20230318
DTSTAMP:20260422T184045
CREATED:20230126T133434Z
LAST-MODIFIED:20230203T030055Z
UID:1508-1678665600-1679097599@tranminhcuong.com
SUMMARY:2023 Liverpool Practical Microvascular Course
DESCRIPTION:Strictly limited to 12 delegates per course \nLike this:Like Loading...
URL:https://tranminhcuong.com/event/2023-liverpool-practical-microvascular-course/
LOCATION:Liverpool\, United Kingdom
CATEGORIES:Course
ATTACH;FMTTYPE=image/png:https://tranminhcuong.com/wp-content/uploads/2023/01/Screenshot-2023-01-26-at-20.33.36.png
ORGANIZER;CN="University of Liverpool":MAILTO:hlscpd@liverpool.ac.uk
END:VEVENT
END:VCALENDAR