BEGIN:VCALENDAR
VERSION:2.0
PRODID:-// - ECPv6.3.7//NONSGML v1.0//EN
CALSCALE:GREGORIAN
METHOD:PUBLISH
X-ORIGINAL-URL:https://tranminhcuong.com
X-WR-CALDESC:Events for 
REFRESH-INTERVAL;VALUE=DURATION:PT1H
X-Robots-Tag:noindex
X-PUBLISHED-TTL:PT1H
BEGIN:VTIMEZONE
TZID:Asia/Ho_Chi_Minh
BEGIN:STANDARD
TZOFFSETFROM:+0700
TZOFFSETTO:+0700
TZNAME:+07
DTSTART:20230101T000000
END:STANDARD
END:VTIMEZONE
BEGIN:VEVENT
DTSTART;VALUE=DATE:20230220
DTEND;VALUE=DATE:20230225
DTSTAMP:20260422T201345
CREATED:20230119T051756Z
LAST-MODIFIED:20230203T154514Z
UID:1474-1676851200-1677283199@tranminhcuong.com
SUMMARY:Chương trình ĐTLT Cấy ghép Implant cơ bản\, khoá 1 - Đại Học Văn Lang
DESCRIPTION:Đợt 1: 20-24/02. Đợt 2: 20-24/03; Đợt 3: 17-21/04 \nLike this:Like Loading...
URL:https://tranminhcuong.com/event/chuong-trinh-dtlt-cay-ghep-implant-co-ban-khoa-1-dai-hoc-van-lang/
LOCATION:Đại học Văn Lang\, 69/68 Đ. Đặng Thuỳ Trâm\, Phường 13\, Bình Thạnh\, Thành phố Hồ Chí Minh\, Viet Nam
ATTACH;FMTTYPE=image/png:https://tranminhcuong.com/wp-content/uploads/2023/01/Screenshot-2023-01-19-at-12.16.45.png
END:VEVENT
END:VCALENDAR