BEGIN:VCALENDAR
VERSION:2.0
PRODID:-// - ECPv6.3.7//NONSGML v1.0//EN
CALSCALE:GREGORIAN
METHOD:PUBLISH
X-ORIGINAL-URL:https://tranminhcuong.com
X-WR-CALDESC:Events for 
REFRESH-INTERVAL;VALUE=DURATION:PT1H
X-Robots-Tag:noindex
X-PUBLISHED-TTL:PT1H
BEGIN:VTIMEZONE
TZID:Asia/Ho_Chi_Minh
BEGIN:STANDARD
TZOFFSETFROM:+0700
TZOFFSETTO:+0700
TZNAME:+07
DTSTART:20230101T000000
END:STANDARD
END:VTIMEZONE
BEGIN:VEVENT
DTSTART;VALUE=DATE:20230218
DTEND;VALUE=DATE:20230220
DTSTAMP:20260422T201343
CREATED:20230113T153706Z
LAST-MODIFIED:20230119T130116Z
UID:1419-1676678400-1676851199@tranminhcuong.com
SUMMARY:Workshop "Phẫu thuật chỉnh hình và phẫu thuật tái tạo ứng dụng phần mềm kỹ thuật số OrtogonBlender
DESCRIPTION:Workshop “Phẫu thuật chỉnh hình và phẫu thuật tái tạo ứng dụng phần mềm kĩ thuật số OrtogonBlender” trở lại với Khóa thứ 3 cập nhật bản mở rộng những tiện lợi giúp quy trình thiết kế nhanh hơn 30% so với trước đây. \nLike this:Like Loading...
URL:https://tranminhcuong.com/event/workshop-phau-thuat-chinh-hinh-va-phau-thuat-tai-tao-ung-dung-phan-mem-ky-thuat-so-ortogonblender/
LOCATION:TpHCM\, Quận Bình Thạnh\, Viet Nam
CATEGORIES:Course
ATTACH;FMTTYPE=image/png:https://tranminhcuong.com/wp-content/uploads/2023/01/Screenshot-2023-01-13-at-22.36.19.png
ORGANIZER;CN="VDS-Trust 3D Dental Printing":MAILTO:info@vdstrust.com
END:VEVENT
END:VCALENDAR